BEGIN:VCALENDAR
VERSION:2.0
PRODID:-//Branches Learning - ECPv6.15.20//NONSGML v1.0//EN
CALSCALE:GREGORIAN
METHOD:PUBLISH
X-WR-CALNAME:Branches Learning
X-ORIGINAL-URL:https://brancheslearning.org
X-WR-CALDESC:Events for Branches Learning
REFRESH-INTERVAL;VALUE=DURATION:PT1H
X-Robots-Tag:noindex
X-PUBLISHED-TTL:PT1H
BEGIN:VTIMEZONE
TZID:America/Los_Angeles
BEGIN:DAYLIGHT
TZOFFSETFROM:-0800
TZOFFSETTO:-0700
TZNAME:PDT
DTSTART:20250309T100000
END:DAYLIGHT
BEGIN:STANDARD
TZOFFSETFROM:-0700
TZOFFSETTO:-0800
TZNAME:PST
DTSTART:20251102T090000
END:STANDARD
BEGIN:DAYLIGHT
TZOFFSETFROM:-0800
TZOFFSETTO:-0700
TZNAME:PDT
DTSTART:20260308T100000
END:DAYLIGHT
BEGIN:STANDARD
TZOFFSETFROM:-0700
TZOFFSETTO:-0800
TZNAME:PST
DTSTART:20261101T090000
END:STANDARD
BEGIN:DAYLIGHT
TZOFFSETFROM:-0800
TZOFFSETTO:-0700
TZNAME:PDT
DTSTART:20270314T100000
END:DAYLIGHT
BEGIN:STANDARD
TZOFFSETFROM:-0700
TZOFFSETTO:-0800
TZNAME:PST
DTSTART:20271107T090000
END:STANDARD
BEGIN:DAYLIGHT
TZOFFSETFROM:-0800
TZOFFSETTO:-0700
TZNAME:PDT
DTSTART:20280312T100000
END:DAYLIGHT
BEGIN:STANDARD
TZOFFSETFROM:-0700
TZOFFSETTO:-0800
TZNAME:PST
DTSTART:20281105T090000
END:STANDARD
END:VTIMEZONE
BEGIN:VEVENT
DTSTART;VALUE=DATE:20261120
DTEND;VALUE=DATE:20261130
DTSTAMP:20260420T200748
CREATED:20260415T171525Z
LAST-MODIFIED:20260415T211729Z
UID:10697-1795132800-1795996799@brancheslearning.org
SUMMARY:Fall Break: No School (Blue Ridge Academy)
DESCRIPTION:A short break in the fall semester to give students and staff a rest period. Schools are closed for a few days to rejuvenate before continuing the term.
URL:https://brancheslearning.org/event/fall-break-no-school-2/
CATEGORIES:Break
ATTACH;FMTTYPE=image/jpeg:https://brancheslearning.org/wp-content/uploads/2024/07/Fall-Break.jpg
END:VEVENT
BEGIN:VEVENT
DTSTART;VALUE=DATE:20261218
DTEND;VALUE=DATE:20270101
DTSTAMP:20260420T200748
CREATED:20260415T171905Z
LAST-MODIFIED:20260415T211804Z
UID:10701-1797552000-1798761599@brancheslearning.org
SUMMARY:Winter Break: No School (Blue Ridge Academy)
DESCRIPTION:An extended holiday break during the winter season\, including Christmas and New Year’s. Schools are closed to allow time for family celebrations and rest.
URL:https://brancheslearning.org/event/winter-break-no-school-4/
CATEGORIES:Break
ATTACH;FMTTYPE=image/jpeg:https://brancheslearning.org/wp-content/uploads/2024/07/Winter-Break.jpg
END:VEVENT
BEGIN:VEVENT
DTSTART;VALUE=DATE:20270101
DTEND;VALUE=DATE:20270102
DTSTAMP:20260420T200748
CREATED:20260415T172207Z
LAST-MODIFIED:20260415T211835Z
UID:10703-1798761600-1798847999@brancheslearning.org
SUMMARY:Winter Break: No School (Blue Ridge Academy)
DESCRIPTION:An extended holiday break during the winter season\, including Christmas and New Year’s. Schools are closed to allow time for family celebrations and rest.
URL:https://brancheslearning.org/event/winter-break-no-school-5/
CATEGORIES:Break
ATTACH;FMTTYPE=image/jpeg:https://brancheslearning.org/wp-content/uploads/2024/07/Winter-Break.jpg
END:VEVENT
BEGIN:VEVENT
DTSTART;VALUE=DATE:20270326
DTEND;VALUE=DATE:20270401
DTSTAMP:20260420T200748
CREATED:20260415T211013Z
LAST-MODIFIED:20260415T211914Z
UID:10716-1806019200-1806537599@brancheslearning.org
SUMMARY:Spring Break: No School (Blue Ridge Academy)
DESCRIPTION:A break in the spring semester for students and staff to relax and recharge.
URL:https://brancheslearning.org/event/spring-break-no-school-4/
CATEGORIES:Break
ATTACH;FMTTYPE=image/jpeg:https://brancheslearning.org/wp-content/uploads/2024/07/Spring-Break.jpg
END:VEVENT
BEGIN:VEVENT
DTSTART;VALUE=DATE:20270401
DTEND;VALUE=DATE:20270403
DTSTAMP:20260420T200748
CREATED:20260415T211110Z
LAST-MODIFIED:20260415T211945Z
UID:10718-1806537600-1806710399@brancheslearning.org
SUMMARY:Spring Break: No School (Blue Ridge Academy)
DESCRIPTION:A break in the spring semester for students and staff to relax and recharge.
URL:https://brancheslearning.org/event/spring-break-no-school-5/
CATEGORIES:Break
ATTACH;FMTTYPE=image/jpeg:https://brancheslearning.org/wp-content/uploads/2024/07/Spring-Break.jpg
END:VEVENT
END:VCALENDAR