BEGIN:VCALENDAR
VERSION:2.0
PRODID:-//Branches Learning - ECPv6.15.20//NONSGML v1.0//EN
CALSCALE:GREGORIAN
METHOD:PUBLISH
X-WR-CALNAME:Branches Learning
X-ORIGINAL-URL:https://brancheslearning.org
X-WR-CALDESC:Events for Branches Learning
REFRESH-INTERVAL;VALUE=DURATION:PT1H
X-Robots-Tag:noindex
X-PUBLISHED-TTL:PT1H
BEGIN:VTIMEZONE
TZID:America/Los_Angeles
BEGIN:DAYLIGHT
TZOFFSETFROM:-0800
TZOFFSETTO:-0700
TZNAME:PDT
DTSTART:20240310T100000
END:DAYLIGHT
BEGIN:STANDARD
TZOFFSETFROM:-0700
TZOFFSETTO:-0800
TZNAME:PST
DTSTART:20241103T090000
END:STANDARD
BEGIN:DAYLIGHT
TZOFFSETFROM:-0800
TZOFFSETTO:-0700
TZNAME:PDT
DTSTART:20250309T100000
END:DAYLIGHT
BEGIN:STANDARD
TZOFFSETFROM:-0700
TZOFFSETTO:-0800
TZNAME:PST
DTSTART:20251102T090000
END:STANDARD
BEGIN:DAYLIGHT
TZOFFSETFROM:-0800
TZOFFSETTO:-0700
TZNAME:PDT
DTSTART:20260308T100000
END:DAYLIGHT
BEGIN:STANDARD
TZOFFSETFROM:-0700
TZOFFSETTO:-0800
TZNAME:PST
DTSTART:20261101T090000
END:STANDARD
END:VTIMEZONE
BEGIN:VEVENT
DTSTART;VALUE=DATE:20251010
DTEND;VALUE=DATE:20251011
DTSTAMP:20260420T182305
CREATED:20250618T154627Z
LAST-MODIFIED:20250618T160116Z
UID:6415-1760054400-1760140799@brancheslearning.org
SUMMARY:Midterm Grades - Semester 1
DESCRIPTION:Check-in on progress! Midterm grades for Semester 1 will be sent to HSTs by this date.
URL:https://brancheslearning.org/event/midterm-grades-semester-1/
CATEGORIES:Important Dates
ATTACH;FMTTYPE=image/png:https://brancheslearning.org/wp-content/uploads/2024/04/branches_learning_tree-600x600-1.png
END:VEVENT
END:VCALENDAR